BEGIN:VCALENDAR
VERSION:2.0
PRODID:-//MoPride - ECPv6.1.2.2//NONSGML v1.0//EN
CALSCALE:GREGORIAN
METHOD:PUBLISH
X-ORIGINAL-URL:https://centralvalleypridecenter.org
X-WR-CALDESC:Events for MoPride
REFRESH-INTERVAL;VALUE=DURATION:PT1H
X-Robots-Tag:noindex
X-PUBLISHED-TTL:PT1H
BEGIN:VTIMEZONE
TZID:UTC
BEGIN:STANDARD
TZOFFSETFROM:+0000
TZOFFSETTO:+0000
TZNAME:UTC
DTSTART:20190101T000000
END:STANDARD
END:VTIMEZONE
BEGIN:VEVENT
DTSTART;TZID=UTC:20220811T173000
DTEND;TZID=UTC:20220811T190000
DTSTAMP:20260423T162506
CREATED:20200219T022912Z
LAST-MODIFIED:20200219T022912Z
UID:31879-1660239000-1660244400@centralvalleypridecenter.org
SUMMARY:Under the Gender Umbrella
DESCRIPTION:Under the Gender Umbrella is a peer support and social group for those who identify as transgender\, nonbinary\, two-spirit\, gender nonconforming\, and those questioning their gender identity.\nEvery week is a little different depending on the needs of the community. We start with check-ins and move into our weekly activity. Some weeks we focus on support and resources. Other weeks we find fun games or shows to enjoy together. \n 
URL:https://centralvalleypridecenter.org/event/under-the-gender-umbrella-2-2022-08-11/
LOCATION:Central Valley Pride Center\, 400 12th St Suite #2\, Modesto\, CA\, 95354\, United States
CATEGORIES:Health,Resources,Social Event,Support,Support Group
ATTACH;FMTTYPE=image/png:https://centralvalleypridecenter.org/wp-content/uploads/2020/02/Untitled-2020-02-18T181949.091.png
END:VEVENT
BEGIN:VEVENT
DTSTART;TZID=UTC:20220804T173000
DTEND;TZID=UTC:20220804T190000
DTSTAMP:20260423T162506
CREATED:20200219T022912Z
LAST-MODIFIED:20210726T185335Z
UID:31464-1659634200-1659639600@centralvalleypridecenter.org
SUMMARY:Under the Gender Umbrella
DESCRIPTION:Under the Gender Umbrella is a peer support and social group for those who identify as transgender\, nonbinary\, two-spirit\, gender nonconforming\, and those questioning their gender identity.\nEvery week is a little different depending on the needs of the community. We start with check-ins and move into our weekly activity. Some weeks we focus on support and resources. Other weeks we find fun games or shows to enjoy together. \n 
URL:https://centralvalleypridecenter.org/event/under-the-gender-umbrella-2-2022-08-04/
LOCATION:Central Valley Pride Center\, 400 12th St Suite #2\, Modesto\, CA\, 95354\, United States
CATEGORIES:Health,Resources,Social Event,Support,Support Group
ATTACH;FMTTYPE=image/png:https://centralvalleypridecenter.org/wp-content/uploads/2020/02/Untitled-2020-02-18T181949.091.png
END:VEVENT
BEGIN:VEVENT
DTSTART;TZID=UTC:20220728T173000
DTEND;TZID=UTC:20220728T190000
DTSTAMP:20260423T162506
CREATED:20200219T022912Z
LAST-MODIFIED:20200219T022912Z
UID:31878-1659029400-1659034800@centralvalleypridecenter.org
SUMMARY:Under the Gender Umbrella
DESCRIPTION:Under the Gender Umbrella is a peer support and social group for those who identify as transgender\, nonbinary\, two-spirit\, gender nonconforming\, and those questioning their gender identity.\nEvery week is a little different depending on the needs of the community. We start with check-ins and move into our weekly activity. Some weeks we focus on support and resources. Other weeks we find fun games or shows to enjoy together. \n 
URL:https://centralvalleypridecenter.org/event/under-the-gender-umbrella-2-2022-07-28/
LOCATION:Central Valley Pride Center\, 400 12th St Suite #2\, Modesto\, CA\, 95354\, United States
CATEGORIES:Health,Resources,Social Event,Support,Support Group
ATTACH;FMTTYPE=image/png:https://centralvalleypridecenter.org/wp-content/uploads/2020/02/Untitled-2020-02-18T181949.091.png
END:VEVENT
BEGIN:VEVENT
DTSTART;TZID=UTC:20220721T173000
DTEND;TZID=UTC:20220721T190000
DTSTAMP:20260423T162506
CREATED:20200219T022912Z
LAST-MODIFIED:20200219T022912Z
UID:31877-1658424600-1658430000@centralvalleypridecenter.org
SUMMARY:Under the Gender Umbrella
DESCRIPTION:Under the Gender Umbrella is a peer support and social group for those who identify as transgender\, nonbinary\, two-spirit\, gender nonconforming\, and those questioning their gender identity.\nEvery week is a little different depending on the needs of the community. We start with check-ins and move into our weekly activity. Some weeks we focus on support and resources. Other weeks we find fun games or shows to enjoy together. \n 
URL:https://centralvalleypridecenter.org/event/under-the-gender-umbrella-2-2022-07-21/
LOCATION:Central Valley Pride Center\, 400 12th St Suite #2\, Modesto\, CA\, 95354\, United States
CATEGORIES:Health,Resources,Social Event,Support,Support Group
ATTACH;FMTTYPE=image/png:https://centralvalleypridecenter.org/wp-content/uploads/2020/02/Untitled-2020-02-18T181949.091.png
END:VEVENT
BEGIN:VEVENT
DTSTART;TZID=UTC:20220714T183000
DTEND;TZID=UTC:20220714T193000
DTSTAMP:20260423T162506
CREATED:20220702T011713Z
LAST-MODIFIED:20220702T011713Z
UID:32280-1657823400-1657827000@centralvalleypridecenter.org
SUMMARY:Depression and Anxiety
DESCRIPTION:Find support\, understanding\, and resources for depression\, anxiety\, and other mental health concerns.\nLed by Jonathan Grammatico\, LCSW each group will do a check-in and discuss various mental health issues\, struggles\, and triumphs. Remember you are not alone. Needing support does not make you weak.\nThere are better days ahead.
URL:https://centralvalleypridecenter.org/event/depression-and-anxiety/
LOCATION:Central Valley Pride Center\, 400 12th St Suite #2\, Modesto\, CA\, 95354\, United States
CATEGORIES:Education,Mental Health,Resources,Support,Support Group
ATTACH;FMTTYPE=image/png:https://centralvalleypridecenter.org/wp-content/uploads/2022/07/Real-Estate-Facebook-Cover.png
END:VEVENT
BEGIN:VEVENT
DTSTART;TZID=UTC:20220714T173000
DTEND;TZID=UTC:20220714T190000
DTSTAMP:20260423T162506
CREATED:20200219T022912Z
LAST-MODIFIED:20200219T022912Z
UID:31876-1657819800-1657825200@centralvalleypridecenter.org
SUMMARY:Under the Gender Umbrella
DESCRIPTION:Under the Gender Umbrella is a peer support and social group for those who identify as transgender\, nonbinary\, two-spirit\, gender nonconforming\, and those questioning their gender identity.\nEvery week is a little different depending on the needs of the community. We start with check-ins and move into our weekly activity. Some weeks we focus on support and resources. Other weeks we find fun games or shows to enjoy together. \n 
URL:https://centralvalleypridecenter.org/event/under-the-gender-umbrella-2-2022-07-14/
LOCATION:Central Valley Pride Center\, 400 12th St Suite #2\, Modesto\, CA\, 95354\, United States
CATEGORIES:Health,Resources,Social Event,Support,Support Group
ATTACH;FMTTYPE=image/png:https://centralvalleypridecenter.org/wp-content/uploads/2020/02/Untitled-2020-02-18T181949.091.png
END:VEVENT
BEGIN:VEVENT
DTSTART;TZID=UTC:20220707T173000
DTEND;TZID=UTC:20220707T190000
DTSTAMP:20260423T162506
CREATED:20200219T022912Z
LAST-MODIFIED:20210726T185334Z
UID:31441-1657215000-1657220400@centralvalleypridecenter.org
SUMMARY:Under the Gender Umbrella
DESCRIPTION:Under the Gender Umbrella is a peer support and social group for those who identify as transgender\, nonbinary\, two-spirit\, gender nonconforming\, and those questioning their gender identity.\nEvery week is a little different depending on the needs of the community. We start with check-ins and move into our weekly activity. Some weeks we focus on support and resources. Other weeks we find fun games or shows to enjoy together. \n 
URL:https://centralvalleypridecenter.org/event/under-the-gender-umbrella-2-2022-07-07/
LOCATION:Central Valley Pride Center\, 400 12th St Suite #2\, Modesto\, CA\, 95354\, United States
CATEGORIES:Health,Resources,Social Event,Support,Support Group
ATTACH;FMTTYPE=image/png:https://centralvalleypridecenter.org/wp-content/uploads/2020/02/Untitled-2020-02-18T181949.091.png
END:VEVENT
BEGIN:VEVENT
DTSTART;TZID=UTC:20220705T150000
DTEND;TZID=UTC:20220705T180000
DTSTAMP:20260423T162506
CREATED:20220702T010514Z
LAST-MODIFIED:20220702T011920Z
UID:32224-1657033200-1657044000@centralvalleypridecenter.org
SUMMARY:Teen Tuesdays
DESCRIPTION:Teens take over MoPride Center!\nEach week different activities. Recent events included crafting\, graphic design\, binging Netflix shows! Every week free food!!
URL:https://centralvalleypridecenter.org/event/teen-tuesdays/
LOCATION:Central Valley Pride Center\, 400 12th St Suite #2\, Modesto\, CA\, 95354\, United States
CATEGORIES:art,Education,games,Social Event,Support,Youth
ATTACH;FMTTYPE=image/png:https://centralvalleypridecenter.org/wp-content/uploads/2022/07/Pride-Month.png
END:VEVENT
BEGIN:VEVENT
DTSTART;TZID=UTC:20220630T173000
DTEND;TZID=UTC:20220630T190000
DTSTAMP:20260423T162506
CREATED:20200219T022912Z
LAST-MODIFIED:20200219T022912Z
UID:31875-1656610200-1656615600@centralvalleypridecenter.org
SUMMARY:Under the Gender Umbrella
DESCRIPTION:Under the Gender Umbrella is a peer support and social group for those who identify as transgender\, nonbinary\, two-spirit\, gender nonconforming\, and those questioning their gender identity.\nEvery week is a little different depending on the needs of the community. We start with check-ins and move into our weekly activity. Some weeks we focus on support and resources. Other weeks we find fun games or shows to enjoy together. \n 
URL:https://centralvalleypridecenter.org/event/under-the-gender-umbrella-2-2022-06-30/
LOCATION:Central Valley Pride Center\, 400 12th St Suite #2\, Modesto\, CA\, 95354\, United States
CATEGORIES:Health,Resources,Social Event,Support,Support Group
ATTACH;FMTTYPE=image/png:https://centralvalleypridecenter.org/wp-content/uploads/2020/02/Untitled-2020-02-18T181949.091.png
END:VEVENT
BEGIN:VEVENT
DTSTART;TZID=UTC:20220623T173000
DTEND;TZID=UTC:20220623T190000
DTSTAMP:20260423T162506
CREATED:20200219T022912Z
LAST-MODIFIED:20200219T022912Z
UID:31874-1656005400-1656010800@centralvalleypridecenter.org
SUMMARY:Under the Gender Umbrella
DESCRIPTION:Under the Gender Umbrella is a peer support and social group for those who identify as transgender\, nonbinary\, two-spirit\, gender nonconforming\, and those questioning their gender identity.\nEvery week is a little different depending on the needs of the community. We start with check-ins and move into our weekly activity. Some weeks we focus on support and resources. Other weeks we find fun games or shows to enjoy together. \n 
URL:https://centralvalleypridecenter.org/event/under-the-gender-umbrella-2-2022-06-23/
LOCATION:Central Valley Pride Center\, 400 12th St Suite #2\, Modesto\, CA\, 95354\, United States
CATEGORIES:Health,Resources,Social Event,Support,Support Group
ATTACH;FMTTYPE=image/png:https://centralvalleypridecenter.org/wp-content/uploads/2020/02/Untitled-2020-02-18T181949.091.png
END:VEVENT
BEGIN:VEVENT
DTSTART;TZID=UTC:20220616T173000
DTEND;TZID=UTC:20220616T190000
DTSTAMP:20260423T162506
CREATED:20200219T022912Z
LAST-MODIFIED:20200219T022912Z
UID:31873-1655400600-1655406000@centralvalleypridecenter.org
SUMMARY:Under the Gender Umbrella
DESCRIPTION:Under the Gender Umbrella is a peer support and social group for those who identify as transgender\, nonbinary\, two-spirit\, gender nonconforming\, and those questioning their gender identity.\nEvery week is a little different depending on the needs of the community. We start with check-ins and move into our weekly activity. Some weeks we focus on support and resources. Other weeks we find fun games or shows to enjoy together. \n 
URL:https://centralvalleypridecenter.org/event/under-the-gender-umbrella-2-2022-06-16/
LOCATION:Central Valley Pride Center\, 400 12th St Suite #2\, Modesto\, CA\, 95354\, United States
CATEGORIES:Health,Resources,Social Event,Support,Support Group
ATTACH;FMTTYPE=image/png:https://centralvalleypridecenter.org/wp-content/uploads/2020/02/Untitled-2020-02-18T181949.091.png
END:VEVENT
BEGIN:VEVENT
DTSTART;TZID=UTC:20220609T173000
DTEND;TZID=UTC:20220609T190000
DTSTAMP:20260423T162506
CREATED:20200219T022912Z
LAST-MODIFIED:20200219T022912Z
UID:31872-1654795800-1654801200@centralvalleypridecenter.org
SUMMARY:Under the Gender Umbrella
DESCRIPTION:Under the Gender Umbrella is a peer support and social group for those who identify as transgender\, nonbinary\, two-spirit\, gender nonconforming\, and those questioning their gender identity.\nEvery week is a little different depending on the needs of the community. We start with check-ins and move into our weekly activity. Some weeks we focus on support and resources. Other weeks we find fun games or shows to enjoy together. \n 
URL:https://centralvalleypridecenter.org/event/under-the-gender-umbrella-2-2022-06-09/
LOCATION:Central Valley Pride Center\, 400 12th St Suite #2\, Modesto\, CA\, 95354\, United States
CATEGORIES:Health,Resources,Social Event,Support,Support Group
ATTACH;FMTTYPE=image/png:https://centralvalleypridecenter.org/wp-content/uploads/2020/02/Untitled-2020-02-18T181949.091.png
END:VEVENT
BEGIN:VEVENT
DTSTART;TZID=UTC:20220602T173000
DTEND;TZID=UTC:20220602T190000
DTSTAMP:20260423T162506
CREATED:20200219T022912Z
LAST-MODIFIED:20210726T185333Z
UID:31400-1654191000-1654196400@centralvalleypridecenter.org
SUMMARY:Under the Gender Umbrella
DESCRIPTION:Under the Gender Umbrella is a peer support and social group for those who identify as transgender\, nonbinary\, two-spirit\, gender nonconforming\, and those questioning their gender identity.\nEvery week is a little different depending on the needs of the community. We start with check-ins and move into our weekly activity. Some weeks we focus on support and resources. Other weeks we find fun games or shows to enjoy together. \n 
URL:https://centralvalleypridecenter.org/event/under-the-gender-umbrella-2-2022-06-02/
LOCATION:Central Valley Pride Center\, 400 12th St Suite #2\, Modesto\, CA\, 95354\, United States
CATEGORIES:Health,Resources,Social Event,Support,Support Group
ATTACH;FMTTYPE=image/png:https://centralvalleypridecenter.org/wp-content/uploads/2020/02/Untitled-2020-02-18T181949.091.png
END:VEVENT
BEGIN:VEVENT
DTSTART;TZID=UTC:20220526T173000
DTEND;TZID=UTC:20220526T190000
DTSTAMP:20260423T162506
CREATED:20200219T022912Z
LAST-MODIFIED:20200219T022912Z
UID:31871-1653586200-1653591600@centralvalleypridecenter.org
SUMMARY:Under the Gender Umbrella
DESCRIPTION:Under the Gender Umbrella is a peer support and social group for those who identify as transgender\, nonbinary\, two-spirit\, gender nonconforming\, and those questioning their gender identity.\nEvery week is a little different depending on the needs of the community. We start with check-ins and move into our weekly activity. Some weeks we focus on support and resources. Other weeks we find fun games or shows to enjoy together. \n 
URL:https://centralvalleypridecenter.org/event/under-the-gender-umbrella-2-2022-05-26/
LOCATION:Central Valley Pride Center\, 400 12th St Suite #2\, Modesto\, CA\, 95354\, United States
CATEGORIES:Health,Resources,Social Event,Support,Support Group
ATTACH;FMTTYPE=image/png:https://centralvalleypridecenter.org/wp-content/uploads/2020/02/Untitled-2020-02-18T181949.091.png
END:VEVENT
BEGIN:VEVENT
DTSTART;TZID=UTC:20220519T173000
DTEND;TZID=UTC:20220519T190000
DTSTAMP:20260423T162506
CREATED:20200219T022912Z
LAST-MODIFIED:20200219T022912Z
UID:31870-1652981400-1652986800@centralvalleypridecenter.org
SUMMARY:Under the Gender Umbrella
DESCRIPTION:Under the Gender Umbrella is a peer support and social group for those who identify as transgender\, nonbinary\, two-spirit\, gender nonconforming\, and those questioning their gender identity.\nEvery week is a little different depending on the needs of the community. We start with check-ins and move into our weekly activity. Some weeks we focus on support and resources. Other weeks we find fun games or shows to enjoy together. \n 
URL:https://centralvalleypridecenter.org/event/under-the-gender-umbrella-2-2022-05-19/
LOCATION:Central Valley Pride Center\, 400 12th St Suite #2\, Modesto\, CA\, 95354\, United States
CATEGORIES:Health,Resources,Social Event,Support,Support Group
ATTACH;FMTTYPE=image/png:https://centralvalleypridecenter.org/wp-content/uploads/2020/02/Untitled-2020-02-18T181949.091.png
END:VEVENT
BEGIN:VEVENT
DTSTART;TZID=UTC:20220512T173000
DTEND;TZID=UTC:20220512T190000
DTSTAMP:20260423T162506
CREATED:20200219T022912Z
LAST-MODIFIED:20200219T022912Z
UID:31869-1652376600-1652382000@centralvalleypridecenter.org
SUMMARY:Under the Gender Umbrella
DESCRIPTION:Under the Gender Umbrella is a peer support and social group for those who identify as transgender\, nonbinary\, two-spirit\, gender nonconforming\, and those questioning their gender identity.\nEvery week is a little different depending on the needs of the community. We start with check-ins and move into our weekly activity. Some weeks we focus on support and resources. Other weeks we find fun games or shows to enjoy together. \n 
URL:https://centralvalleypridecenter.org/event/under-the-gender-umbrella-2-2022-05-12/
LOCATION:Central Valley Pride Center\, 400 12th St Suite #2\, Modesto\, CA\, 95354\, United States
CATEGORIES:Health,Resources,Social Event,Support,Support Group
ATTACH;FMTTYPE=image/png:https://centralvalleypridecenter.org/wp-content/uploads/2020/02/Untitled-2020-02-18T181949.091.png
END:VEVENT
BEGIN:VEVENT
DTSTART;TZID=UTC:20220505T173000
DTEND;TZID=UTC:20220505T190000
DTSTAMP:20260423T162506
CREATED:20200219T022912Z
LAST-MODIFIED:20210726T185332Z
UID:31356-1651771800-1651777200@centralvalleypridecenter.org
SUMMARY:Under the Gender Umbrella
DESCRIPTION:Under the Gender Umbrella is a peer support and social group for those who identify as transgender\, nonbinary\, two-spirit\, gender nonconforming\, and those questioning their gender identity.\nEvery week is a little different depending on the needs of the community. We start with check-ins and move into our weekly activity. Some weeks we focus on support and resources. Other weeks we find fun games or shows to enjoy together. \n 
URL:https://centralvalleypridecenter.org/event/under-the-gender-umbrella-2-2022-05-05/
LOCATION:Central Valley Pride Center\, 400 12th St Suite #2\, Modesto\, CA\, 95354\, United States
CATEGORIES:Health,Resources,Social Event,Support,Support Group
ATTACH;FMTTYPE=image/png:https://centralvalleypridecenter.org/wp-content/uploads/2020/02/Untitled-2020-02-18T181949.091.png
END:VEVENT
BEGIN:VEVENT
DTSTART;TZID=UTC:20220310T173000
DTEND;TZID=UTC:20220310T183000
DTSTAMP:20260423T162506
CREATED:20220305T013807Z
LAST-MODIFIED:20220305T013807Z
UID:32139-1646933400-1646937000@centralvalleypridecenter.org
SUMMARY:Depression & Anxiety Support Group
DESCRIPTION:You are not alone. Find support in an accepting and safe space for all. Open to all. \n  \nHosted by Jon Vince\, MSW and PhD Student. \nCurrently working on his PhD in Human Sexuality\, Jon has worked serving the community of the Central Valley for years. Whether as a social worker\, therapist\, or heading AIDS outreach for the health department\, Jon ensures that LGBTQ+ community is getting the support and services they need.
URL:https://centralvalleypridecenter.org/event/depression-anxiety-support-group-2/
LOCATION:Central Valley Pride Center\, 400 12th St Suite #2\, Modesto\, CA\, 95354\, United States
CATEGORIES:Education,Health,Mental Health,Resources,Support,Support Group
ATTACH;FMTTYPE=image/jpeg:https://centralvalleypridecenter.org/wp-content/uploads/2019/07/lgbtelders.jpg
END:VEVENT
BEGIN:VEVENT
DTSTART;TZID=UTC:20220304T173000
DTEND;TZID=UTC:20220304T190000
DTSTAMP:20260423T162506
CREATED:20220305T012659Z
LAST-MODIFIED:20220305T012659Z
UID:32136-1646415000-1646420400@centralvalleypridecenter.org
SUMMARY:Pride and Joy
DESCRIPTION:Pride & Joy is a group for parents of LGBTQIA+ youths to come together\, share their knowledge\, ask honest questions\, and find understanding. \n  \nHosted by Veronica Ambrose\, BA Child Development. \nA queer educational professional\, Veronica has spent decades in the education field and has served on MoPride’s Board of Directors. She is a trained facilitator of the Parent Project and has pride in supporting families and youths.
URL:https://centralvalleypridecenter.org/event/pride-and-joy/
LOCATION:Central Valley Pride Center\, 400 12th St Suite #2\, Modesto\, CA\, 95354\, United States
CATEGORIES:Health,Mental Health,Parent Group,Parents,Resources,Social Event,Support,Support Group,Youth
ATTACH;FMTTYPE=image/png:https://centralvalleypridecenter.org/wp-content/uploads/2022/03/Rainbow-Out-and-Proud-Facebook-Event-Cover.png
END:VEVENT
BEGIN:VEVENT
DTSTART;TZID=UTC:20200331T150000
DTEND;TZID=UTC:20200331T190000
DTSTAMP:20260423T162506
CREATED:20200304T053342Z
LAST-MODIFIED:20200304T053342Z
UID:29403-1585666800-1585681200@centralvalleypridecenter.org
SUMMARY:Transgender Day of Visibility 2020
DESCRIPTION:Transgender people come from all walks of life. We are your coworkers\, family\, and neighbors. We are 7-year-old children and we are 70-year-old grandparents. We are a diverse community representing all racial and ethnic backgrounds\, as well as faith backgrounds. \nInternational Transgender Day of Visibility is honored every year on March 31 and is a time to celebrate transgender people around the globe and the courage it takes to live openly and authentically\, while also raising awareness around the discrimination trans people still face. \n  \nBBQ & Potluck at Graceda Park
URL:https://centralvalleypridecenter.org/event/transgender-day-of-visibility-2020/
LOCATION:Graceada Park\, 401 Needham St\, Modesto\, CA\, 95354\, United States
CATEGORIES:activism,community engagement,Education,News,Resources,Social Event,Support,Youth
ATTACH;FMTTYPE=image/jpeg:https://centralvalleypridecenter.org/wp-content/uploads/2020/03/transgenderdayofvisibility2020.jpeg
END:VEVENT
BEGIN:VEVENT
DTSTART;TZID=UTC:20200318T183000
DTEND;TZID=UTC:20200318T203000
DTSTAMP:20260423T162506
CREATED:20190814T062349Z
LAST-MODIFIED:20200304T051006Z
UID:11405-1584556200-1584563400@centralvalleypridecenter.org
SUMMARY:Welcoming Parents
DESCRIPTION:A welcoming place for parents and caregivers of LGBTQ youth to learn how to be the welcoming parents our youth need.
URL:https://centralvalleypridecenter.org/event/welcoming-parents/
LOCATION:Unitarian Universalist Fellowship of Stanislaus County\, 2172 Kiernan Ave\, Modesto\, CA\, 95356\, United States
CATEGORIES:Education,Parents,Social Event,Support,Support Group,Training,Youth
ATTACH;FMTTYPE=image/jpeg:https://centralvalleypridecenter.org/wp-content/uploads/2019/08/welcomingparents.jpeg
END:VEVENT
BEGIN:VEVENT
DTSTART;TZID=UTC:20200307T183000
DTEND;TZID=UTC:20200307T210000
DTSTAMP:20260423T162506
CREATED:20200304T044858Z
LAST-MODIFIED:20200304T044922Z
UID:29352-1583605800-1583614800@centralvalleypridecenter.org
SUMMARY:Center Closed
DESCRIPTION:We are Closed today March 7th\, 2020. \nJoin us at NAACP Banquet\, tickets available at www.naacpmodestostanislaus.org
URL:https://centralvalleypridecenter.org/event/center-closed-3/
LOCATION:Central Valley Pride Center\, 400 12th St Suite #2\, Modesto\, CA\, 95354\, United States
CATEGORIES:community engagement,Social Event,Support
ATTACH;FMTTYPE=image/png:https://centralvalleypridecenter.org/wp-content/uploads/2020/03/naacpfreedomfund.png
END:VEVENT
BEGIN:VEVENT
DTSTART;TZID=UTC:20200306T173000
DTEND;TZID=UTC:20200306T190000
DTSTAMP:20260423T162506
CREATED:20191030T210111Z
LAST-MODIFIED:20200304T044253Z
UID:15994-1583515800-1583521200@centralvalleypridecenter.org
SUMMARY:Queer Women's Social
DESCRIPTION:Join us for light refreshments and great company. Meet new people or catch up with friends in a safe and accepting space. Let’s build a strong community of support and resiliency. \nQueer Women’s Social is a trans-inclusive social open to anyone in the LGBTQ+ community who identifies as a woman or femme. Please reach out if you have any questions.
URL:https://centralvalleypridecenter.org/event/queer-womens-social/
LOCATION:400 12th St\, Modesto\, CA\, United States
CATEGORIES:Resources,Social Event,Support
ATTACH;FMTTYPE=image/png:https://centralvalleypridecenter.org/wp-content/uploads/2019/10/Untitled-85.png
END:VEVENT
BEGIN:VEVENT
DTSTART;TZID=UTC:20200204T173000
DTEND;TZID=UTC:20200204T190000
DTSTAMP:20260423T162506
CREATED:20200124T023325Z
LAST-MODIFIED:20200124T023325Z
UID:24153-1580837400-1580842800@centralvalleypridecenter.org
SUMMARY:Parent's Support Group
DESCRIPTION:This parents’ support group is for guardians\, caregivers\, and parents of LGBTQ+ youths.\nDo you have any questions? Concerns? Worries? Join us in a safe and judgment-free space to learn about the LGBTQ+ community\, clear up misconceptions\, and find the best ways to support your LGBTQ+ youth.\nParenting is a journey\, but you do not have to do it alone! Find support at Central Valley Pride Center.
URL:https://centralvalleypridecenter.org/event/parents-support-group/
LOCATION:Central Valley Pride Center\, 400 12th St Suite #2\, Modesto\, CA\, 95354\, United States
CATEGORIES:Education,Parents,Resources,Support,Support Group
ATTACH;FMTTYPE=image/jpeg:https://centralvalleypridecenter.org/wp-content/uploads/2019/08/gayfamily_856x642.jpg
END:VEVENT
BEGIN:VEVENT
DTSTART;TZID=UTC:20191231T170000
DTEND;TZID=UTC:20191231T190000
DTSTAMP:20260423T162506
CREATED:20191214T025431Z
LAST-MODIFIED:20191214T025431Z
UID:19987-1577811600-1577818800@centralvalleypridecenter.org
SUMMARY:Astrology-A-Go Go
DESCRIPTION:What does 2020 hold for you? No one knows for sure but let’s compare star charts and see if we can get a peek! Let’s pregame for the New Year in a safe and sober space\, surrounded by amazing people and community. \nAll are welcomed\, from those who get your daily compare star charts on a first date to those who are simply an interest in exploring a new perspective. \nWe will provide baked turkey and rolls. Bring a side\, drinks\, snacks\, or just your unique self and we will welcome you!
URL:https://centralvalleypridecenter.org/event/astrology-a-go-go-2/
LOCATION:Central Valley Pride Center\, 400 12th St Suite #2\, Modesto\, CA\, 95354\, United States
CATEGORIES:Education,Social Event,Support
ATTACH;FMTTYPE=image/png:https://centralvalleypridecenter.org/wp-content/uploads/2019/12/Untitled-2019-12-13T184536.698.png
END:VEVENT
BEGIN:VEVENT
DTSTART;TZID=UTC:20191214T080000
DTEND;TZID=UTC:20191214T170000
DTSTAMP:20260423T162506
CREATED:20191214T022835Z
LAST-MODIFIED:20191214T022835Z
UID:19984-1576310400-1576342800@centralvalleypridecenter.org
SUMMARY:LGBTQ+ Sports
DESCRIPTION:Table tennis or Ping Pong\, doesn’t matter what you call it because it will be coming to Central Valley Pride Center! Join us as we explore Table Tennis aka Ping Pong\, beginners welcomed. \n\n\n \n\n\nOpen to all ages\, bring the whole family to try your backhand in a safe and accepting space. And bring your ideas about what to do for our next LGBTQ+ Sports meeting.
URL:https://centralvalleypridecenter.org/event/lgbtq-sports-2/
LOCATION:Central Valley Pride Center\, 400 12th St Suite #2\, Modesto\, CA\, 95354\, United States
CATEGORIES:games,Resources,sports,Support
ATTACH;FMTTYPE=image/png:https://centralvalleypridecenter.org/wp-content/uploads/2019/12/Untitled-2019-12-13T181737.203.png
END:VEVENT
BEGIN:VEVENT
DTSTART;TZID=UTC:20191207T180000
DTEND;TZID=UTC:20191207T210000
DTSTAMP:20260423T162506
CREATED:20191128T004808Z
LAST-MODIFIED:20191128T004808Z
UID:18525-1575741600-1575752400@centralvalleypridecenter.org
SUMMARY:Queer Share & Tell
DESCRIPTION:Come listen and/or share your music\, poems\, comedy\, stories\, art and creative performances of all natures in a safe space. Snacks and non-alcoholic beverages provided. All donations help keep the Pride Center open and serving our community.
URL:https://centralvalleypridecenter.org/event/queer-share-tell/
LOCATION:Central Valley Pride Center\, 400 12th St Suite #2\, Modesto\, CA\, 95354\, United States
CATEGORIES:Social Event,Support
ATTACH;FMTTYPE=image/jpeg:https://centralvalleypridecenter.org/wp-content/uploads/2019/11/microphone-1159791_1920.jpg
END:VEVENT
END:VCALENDAR